BEGIN:VCALENDAR
VERSION:2.0
PRODID:-//Mindfully Optimizing Life For People &amp; Planet - ECPv6.15.13.1//NONSGML v1.0//EN
CALSCALE:GREGORIAN
METHOD:PUBLISH
X-WR-CALNAME:Mindfully Optimizing Life For People &amp; Planet
X-ORIGINAL-URL:https://perfectlyhere.org
X-WR-CALDESC:Events for Mindfully Optimizing Life For People &amp; Planet
REFRESH-INTERVAL;VALUE=DURATION:PT1H
X-Robots-Tag:noindex
X-PUBLISHED-TTL:PT1H
BEGIN:VTIMEZONE
TZID:America/New_York
BEGIN:DAYLIGHT
TZOFFSETFROM:-0500
TZOFFSETTO:-0400
TZNAME:EDT
DTSTART:20220313T070000
END:DAYLIGHT
BEGIN:STANDARD
TZOFFSETFROM:-0400
TZOFFSETTO:-0500
TZNAME:EST
DTSTART:20221106T060000
END:STANDARD
BEGIN:DAYLIGHT
TZOFFSETFROM:-0500
TZOFFSETTO:-0400
TZNAME:EDT
DTSTART:20230312T070000
END:DAYLIGHT
BEGIN:STANDARD
TZOFFSETFROM:-0400
TZOFFSETTO:-0500
TZNAME:EST
DTSTART:20231105T060000
END:STANDARD
BEGIN:DAYLIGHT
TZOFFSETFROM:-0500
TZOFFSETTO:-0400
TZNAME:EDT
DTSTART:20240310T070000
END:DAYLIGHT
BEGIN:STANDARD
TZOFFSETFROM:-0400
TZOFFSETTO:-0500
TZNAME:EST
DTSTART:20241103T060000
END:STANDARD
END:VTIMEZONE
BEGIN:VEVENT
DTSTART;TZID=America/New_York:20231104T090000
DTEND;TZID=America/New_York:20231104T130000
DTSTAMP:20260419T224548
CREATED:20231015T194404Z
LAST-MODIFIED:20231028T010420Z
UID:11063-1699088400-1699102800@perfectlyhere.org
SUMMARY:Pre-Holiday Self-Care Mindfulness Retreat\, Saturday\, Half-Day
DESCRIPTION:You have a choice of a Half-Day Retreat on Saturday\, Nov 4\, from 9 AM to 1 PM or a Full-day on Sunday\, Nov 5th\, and both days. You will have a choice at check out. Please enjoy.\nClick to Register\nOverview\nPre-Holiday Self-Care Mindfulness Retreat is to help prepare you for the extra hustle and bustle of the upcoming holidays. Taking time for self-care is so important and highly recommended by all healthcare providers and wellness advocates. During this time you’ll enjoy gentle meditation and other activities that will fill your mind\, heart\, and body with nourishing energy and love. \nTending to others will become so much more enjoyable and less stressful when you are balanced and have clean energy within you. \nTake a day off\, reset\, become present and mindful\, and lift the weight of all these requirements for happiness. \nAt this Mindfully Relax Day Retreat\, we spend the day in the following ways. \nCleansing/Relaxing\nAt this Pre-Holiday Self-Care Mindfulness Retreat a series of meditations\, sitting\, walking\, and Mindful practices are designed to help clear your mind and heart from the challenges of daily life\, stress\, and heartbreak. These gentle practices help you settle in your body\, relax\, rejuvenate\, and create space to tend to what’s most important to you in life. We practice quietly throughout the day and during lunch. It is often loved by participants who have never even imagined themselves being quiet and at ease amongst others. It is comforting to not always have to have something to say. The day is not completely silent\, as the teacher provides meditation and wisdom guidance with time for Q&A. \nReflection\nWe will provide topics for reflection to examine inner intentions and see ways to strengthen peace and stability in your life. Using specific themes\, you can reflect on your past\, the present\, and what will be in the future. A process that will not only benefit you but also those you love\, work and interact with within different settings. \nVisioning\nWe all need a proper higher vision. One that can inspire us\, and propel us to make choices in healthy directions. A vision for a future that is bright\, safe\, welcoming\, nourishing\, and fair to all. A future where we are free of stress and anxiety and where our children are happy and carefree. Holding such higher visions in mind and heart\, we will walk with ease feeling the generosity of Mother Earth in every step and cultivating a deeper connection to her. We become even more open to ways we can honor her generosity and experience contentment in return. \nPlease email us if you have any questions at info@deepskyblue-gnat-427102.hostingersite.com.\nFees:\nPlease note\, we have kept our prices the same for the past 15 years and we must make an adjustment to account for inflation and rising costs. If you are unable to pay any of the pay levels\, please contact us via email to make other arrangements. We thank you for your understanding and patronage. \nClick Here to Register\nAfter registering\, you will receive a confirmation email containing the address and other retreat details. We look forward to spending a kind and refreshing day with you.PerPerso
URL:https://perfectlyhere.org/event/holiday-selfcare-mindfulness-retreat-saturday-half-day/
CATEGORIES:Retreats
ATTACH;FMTTYPE=image/jpeg:https://perfectlyhere.org/wp-content/uploads/2023/10/Depositphotos_12302360_XL-scaled.jpg
END:VEVENT
END:VCALENDAR