BEGIN:VCALENDAR
VERSION:2.0
PRODID:-//Mindfully Optimizing Life For People &amp; Planet - ECPv6.15.13.1//NONSGML v1.0//EN
CALSCALE:GREGORIAN
METHOD:PUBLISH
X-WR-CALNAME:Mindfully Optimizing Life For People &amp; Planet
X-ORIGINAL-URL:https://perfectlyhere.org
X-WR-CALDESC:Events for Mindfully Optimizing Life For People &amp; Planet
REFRESH-INTERVAL;VALUE=DURATION:PT1H
X-Robots-Tag:noindex
X-PUBLISHED-TTL:PT1H
BEGIN:VTIMEZONE
TZID:America/New_York
BEGIN:DAYLIGHT
TZOFFSETFROM:-0500
TZOFFSETTO:-0400
TZNAME:EDT
DTSTART:20220313T070000
END:DAYLIGHT
BEGIN:STANDARD
TZOFFSETFROM:-0400
TZOFFSETTO:-0500
TZNAME:EST
DTSTART:20221106T060000
END:STANDARD
BEGIN:DAYLIGHT
TZOFFSETFROM:-0500
TZOFFSETTO:-0400
TZNAME:EDT
DTSTART:20230312T070000
END:DAYLIGHT
BEGIN:STANDARD
TZOFFSETFROM:-0400
TZOFFSETTO:-0500
TZNAME:EST
DTSTART:20231105T060000
END:STANDARD
BEGIN:DAYLIGHT
TZOFFSETFROM:-0500
TZOFFSETTO:-0400
TZNAME:EDT
DTSTART:20240310T070000
END:DAYLIGHT
BEGIN:STANDARD
TZOFFSETFROM:-0400
TZOFFSETTO:-0500
TZNAME:EST
DTSTART:20241103T060000
END:STANDARD
END:VTIMEZONE
BEGIN:VEVENT
DTSTART;TZID=America/New_York:20231210T090000
DTEND;TZID=America/New_York:20231210T170000
DTSTAMP:20260419T225333
CREATED:20231015T220434Z
LAST-MODIFIED:20231204T225513Z
UID:11073-1702198800-1702227600@perfectlyhere.org
SUMMARY:Year-End Forgiveness Mindful Retreat
DESCRIPTION:Click to Register\nOverview\nYear-End Forgiveness Mindful Retreat is to help let go of extra baggage. To begin the year with a fresh outlook and joy. Taking time for self-care and reflecting on that which occupies the mind. Self-forgiveness\, other forgiveness\, and releasing the obligation to suffer for what was done wrong. During this day we help you relax and enjoy gentle meditations and other activities to nourish your mind\, heart\, and body with love and forgiveness. \nLet’s finish the year by offloading some unnecessary burdens of resentment and suffering. We’re all human and it is not easy to be one. \nTake a day off\, reset\, become present and mindful\, and lift the weight of requirements set by the mind for happiness. \nAt this Mindfully Relax Day Retreat\, we spend the day in the following ways. \nCleansing/Relaxing\nYear-End Forgiveness Mindful Retreat includes a series of meditations\, sitting\, walking\, and Mindful practices designed to help clear your mind and heart from the challenges of daily life\, stress\, and overwhelm. These gentle practices help you settle in your body\, relax\, rejuvenate\, and create space to tend to what’s most important in your life\, you. We practice quietly throughout the day and during lunch. It is often loved by participants who have never even imagined themselves being quiet and at ease amongst others. It is comforting to not always have to have something to say. The day is not completely silent\, as the teacher provides meditation and wisdom guidance with time for Q&A. \nReflection\nOur guiding teacher\, Dr. Motaghy\, will provide wisdom and topics for reflection to examine inner intentions and see ways to strengthen peace and stability in your life. Using specific themes\, you can reflect on your past\, the present\, and what will be in the future. A process that will not only benefit you but also those you love\, work and interact with within different settings. \nVisioning\nWe all need a proper higher vision. One that can inspire us\, and propel us to make choices in healthy directions. A vision for a future that is bright\, safe\, welcoming\, nourishing\, and fair to all. A future where we are free of stress and anxiety and where our children are happy and carefree. Holding such higher visions in mind and heart\, we will walk with ease feeling the generosity of Mother Earth in every step and cultivating a deeper connection to her. We become even more open to ways we can honor her generosity and experience contentment in return. \nPlease email us if you have any questions at info@deepskyblue-gnat-427102.hostingersite.com.\nFees:\nPlease note\, that we have kept our prices the same for the past 15 years and we must make an adjustment to account for inflation and rising costs. If you are experiencing true hardship and in need of a scholarship\, please contact us via email to help you out. We thank you for your understanding and patronage. \nClick Here to Register\nAfter registering\, you will receive a confirmation email containing the address and other retreat details. We look forward to spending a kind and refreshing day with you.
URL:https://perfectlyhere.org/event/year-end-forgiveness-mindful-retreat/
CATEGORIES:Retreats
ATTACH;FMTTYPE=image/png:https://perfectlyhere.org/wp-content/uploads/2023/10/Screenshot-2023-12-04-145225.png
END:VEVENT
END:VCALENDAR