BEGIN:VCALENDAR
VERSION:2.0
PRODID:-//Mindfully Optimizing Life For People &amp; Planet - ECPv6.15.13.1//NONSGML v1.0//EN
CALSCALE:GREGORIAN
METHOD:PUBLISH
X-WR-CALNAME:Mindfully Optimizing Life For People &amp; Planet
X-ORIGINAL-URL:https://perfectlyhere.org
X-WR-CALDESC:Events for Mindfully Optimizing Life For People &amp; Planet
REFRESH-INTERVAL;VALUE=DURATION:PT1H
X-Robots-Tag:noindex
X-PUBLISHED-TTL:PT1H
BEGIN:VTIMEZONE
TZID:UTC
BEGIN:STANDARD
TZOFFSETFROM:+0000
TZOFFSETTO:+0000
TZNAME:UTC
DTSTART:20210101T000000
END:STANDARD
END:VTIMEZONE
BEGIN:VEVENT
DTSTART;TZID=UTC:20230109T073000
DTEND;TZID=UTC:20231231T080000
DTSTAMP:20260419T201936
CREATED:20221224T132149Z
LAST-MODIFIED:20230920T225656Z
UID:9017-1673249400-1704009600@perfectlyhere.org
SUMMARY:Live Meditations Every Friday
DESCRIPTION:Click Here to Register \nPerfectly Here Morning Reflection and Meditation offer the opportunity to practice in the comfort of your own home while connecting with guiding teachers. These opportunities develop several qualities pertinent to happiness and success. Firstly\, the community builds the skills of clarity\, Mindfulness\, compassion\, and wisdom. Secondly\, by having these sessions on your calendar\, you meditate regularly. \nThirdly\, and most importantly\, these practice sessions are virtual on Zoom. This gives everyone access to attend from all around the globe. Because we are interdependent\, the more people participate\, the collective intention\, clarity\, and ease will improve. \nOur students and alumni attend to maintain their routine daily practice because they strive for a more positive impact on the global community. \nSee Perfectly Here’s Instructors \n  \nJoin Perfectly Here Morning Reflection & Meditation every Friday for 30 min-live at 7:30 AM\, PST \nSupport and Gratitude:\nPerfectly Here provides these sessions in the spirit of generosity. We appreciate your support in building our scholarships. Above all\, our scholarships help those who need our programs and face financial hardship. Furthermore\, it enables us to continue fulfilling our mission of “No one turned away for lack of funds.” \nPerfectly Here is a dba of Mindful Valley\, a 501C3 non-profit corporation. Your contributions are tax-deductible. \nGet The Zoom Link by Registering Below
URL:https://perfectlyhere.org/event/live-meditations-every-monday-and-friday-morning/
CATEGORIES:Live Meditations,Meditation Groups,Upcoming Events,Weekly Practice
ATTACH;FMTTYPE=image/jpeg:https://perfectlyhere.org/wp-content/uploads/2023/01/Nourishing-Minfulness-scaled.jpg
ORGANIZER;CN="Perfectly Here":MAILTO:info@deepskyblue-gnat-427102.hostingersite.com
END:VEVENT
BEGIN:VEVENT
DTSTART;TZID=UTC:20221224T080000
DTEND;TZID=UTC:20221224T170000
DTSTAMP:20260419T201936
CREATED:20221224T125913Z
LAST-MODIFIED:20221229T152520Z
UID:9012-1671868800-1671901200@perfectlyhere.org
SUMMARY:Get Your Happiness Tools Right\, Free Webinar
DESCRIPTION:Overview of Getting Your Happiness Tools Right \nGetting the Right Happiness Tools for some might be refining their understanding of happiness and sharpen their tools. For others\, it could offer a whole new perspective. \nThis free webinar is to empower therapists\, coaches\, and those in the training field. All levels are welcome. \nFor most people happiness is not a constant. Not something they can hold on to and be done with getting it. In fact\, the USA’s Constitutional Rights give us the Right To Pursue Happiness. \nAn interesting concept and frame of reference. It doesn’t say we have the right to have happiness or to be happy. It says we have the right to pursue it. By the nature of pursuit\, we may be always one step away\, never quite reaching the ultimate happiness. \nIn this Webinar\, from the Life Intelligence & Optimization Methodologies\, we will explore: \n\nHow emotions contribute to or take away happiness and how to fix that.\nHappiness in the absence of suffering.\nWays we’ve gotten the heart wrong.\n\nThis webinar is to improve the work of therapy and coaching so that your outcomes can be that much more effective. We will also be offering a seven-week course to Power Up Your Therapy & Coaching Practice with Life Optimization Methodology \nClick to Sign UP Here For FREE: \nSign Up
URL:https://perfectlyhere.org/event/get-your-happiness-tools-right-free-webinar/
CATEGORIES:Beyond Mindfulness,Professional Trainer,Upcoming Events
ATTACH;FMTTYPE=image/png:https://perfectlyhere.org/wp-content/uploads/2022/12/Getting-Your-Happiness-Right1.png
END:VEVENT
END:VCALENDAR